BEGIN:VCALENDAR
VERSION:2.0
PRODID:Events Booking
BEGIN:VEVENT
UID:69e7a91c2de01
SUMMARY:Dungeons & Dragons 
DESCRIPTION: Saturday is for Dungeons and Dragons
 Join us on the 1st &amp
 \; 3rd Saturday of the month\, come along and make new friends in a safe s
 pace.
 We now have two tables one for experienced players\, and one for b
 eginners or those who like the idea of something new each session.
 Bring
  Mum or Dad with you\, get them interested. If they don't fancy playing th
 ere is an area for them to sit and talk to other parents
 Become a Dungeo
 n Master and run your own campaign take yourself back into history\, or ma
 ybe take yourself into the future and have your Dungeon in space.
 It's y
 our campaign you decide. All you have to do is have fun and enjoy yourself
 .
 There is a space for Mum or Dad to talk to other parents\, and get sup
 port if needed.
  
 
 
LOCATION:59-61\, Meadow Street\, Weston-super-Mare\, North Somerset\,  BS23
  1QL\, 
DTSTART:20240720T120000Z
DTEND:20240720T160000Z
DTSTAMP:20240322T133237Z
ORGANIZER;CN=Events Team:MAILTO:events@bridgingthegaptogether.org.uk
GEO:51.348725;-2.975342
X-APPLE-STRUCTURED-LOCATION;VALUE=URI;X-ADDRESS=59-61\, Meadow Street\, Wes
 ton-super-Mare\, North Somerset\,  BS23 1QL\, ;X-APPLE-RADIUS=72;X-TITLE=B
 ridging the Gap Together Office:51.348725;-2.975342
END:VEVENT
END:VCALENDAR